BEGIN:VCALENDAR
VERSION:2.0
METHOD:PUBLISH
PRODID:-//Accessible Web Design//My Calendar//http://www.joedolson.com//v//EN';
BEGIN:VEVENT
UID:18-54
LOCATION:
SUMMARY:バクティ・サンガム
DTSTAMP:20220410T103000
ORGANIZER;CN=madhuri:MAILTO:madhuri@mahayogi.org
DTSTART:20220410T103000
DTEND:20220410T120000
CATEGORIES:bhakti-samgham
URL;VALUE=URI:https://www.mahayogi.org/mc-events/バクティ・サンガム-11?mc_id=18
DESCRIPTION;ENCODING=QUOTED-PRINTABLE:
END:VEVENT
END:VCALENDAR