BEGIN:VCALENDAR
VERSION:2.0
METHOD:PUBLISH
PRODID:-//Accessible Web Design//My Calendar//http://www.joedolson.com//v//EN';
BEGIN:VEVENT
UID:1055-159
LOCATION:
SUMMARY:ヨーガ・瞑想　madhuri
DTSTAMP:20250520T190000
ORGANIZER;CN=madhuri:MAILTO:madhuri@mahayogi.org
DTSTART:20250520T190000
DTEND:20250520T203000
CATEGORIES:yoga
URL;VALUE=URI:https://www.mahayogi.org/mc-events/ヨーガ・瞑想　madhuri-16?mc_id=1055
DESCRIPTION;ENCODING=QUOTED-PRINTABLE:
END:VEVENT
END:VCALENDAR